BEGIN:VCALENDAR
VERSION:2.0
PRODID:-//eventon.com NONSGML v1.0//EN
BEGIN:VEVENT
UID:69e81a0741d28
DTSTAMP:20260422T104455
DTSTART:20250426T080000Z
DTEND:20250426T093000Z
LOCATION:Wesley Hall - Berry Uniting Church 77 Albert St
SUMMARY:Kate Forsyth's Official Launch of her Fairytale Oracle
DESCRIPTION: Kate Forsyth's Official Launch of her Fairytale Oracle - in Berry April 26  6pm -7.30pm Join acclaimed & beloved author Kate Forsyth for a fascinating talk on the history\,  meaning & purpose of fairytales. An enchanted evening! &nbsp; About the Fairytales Oracle Launch: Join acclaimed & beloved author Kate Forsyth[..]
END:VEVENT
END:VCALENDAR