BEGIN:VCALENDAR
VERSION:2.0
PRODID:-//eventon.com NONSGML v1.0//EN
BEGIN:VEVENT
UID:69ec951a55999
DTSTAMP:20260425T201906
DTSTART:20190427T000000Z
DTEND:20190427T050000Z
LOCATION:Past Event - Berry . NSW . Australia 
SUMMARY:Stacey DeMarco - Moon Queens and Mythos
DESCRIPTION: Moon Queens and Mythos April 2019. Berry. Join Witch and pagan author\,  Stacey Demarco\,  The Modern Witch\,  for a workshop exploring the power of the Lunar Deities and the cycles themselves. Learn how plugging into the cycles of the moon can benefit you in all areas of your life including[..]
END:VEVENT
END:VCALENDAR