BEGIN:VCALENDAR
VERSION:2.0
PRODID:-//eventon.com NONSGML v1.0//EN
BEGIN:VEVENT
UID:69e987ab3b1b7
DTSTAMP:20260423T124459
DTSTART:20190518T000000Z
DTEND:20190518T050000Z
LOCATION:Past Event - Berry . NSW . Australia 
SUMMARY:Alana Fairchild - Encounters with the Sacred Feminine
DESCRIPTION: Encounters with the Sacred Feminine May 2018. Berry. With Alana Fairchild. "Together we raise the shakti and embrace generous blessings of abundance\,  grace and deep restoration." KALI—ISIS—TARA From the wild Black Goddess of India\,  Kali\,  to the luminous winged goddess of light\,  Isis\,  and the cosmic Tibetan protector goddess Tara\, [..]
END:VEVENT
END:VCALENDAR