BEGIN:VCALENDAR
VERSION:2.0
PRODID:-//eventon.com NONSGML v1.0//EN
BEGIN:VEVENT
UID:69ec958298da2
DTSTAMP:20260425T202050
DTSTART:20191123T093000Z
DTEND:20191123T135000Z
LOCATION:Berry Uniting Church Hall 77 Albert St\,  Berry NSW 2535
SUMMARY:Sacred Earth Concert 2019
DESCRIPTION: Australia’s own Internationally renown Mantra Artists Sacred Earth (Prem & Jethro Williams). Sacred Earth’s music truly is like balm for the spirit. Join Prem & Jethro for their annual Berry Concert. A sacred evening of Mantra\,  Meditation and Sacred Song... Uplifting. Expansive. Music from the heart. Ancient Mantra's\,  soaring flutes\, [..]
END:VEVENT
END:VCALENDAR