BEGIN:VCALENDAR
VERSION:2.0
PRODID:-//eventon.com NONSGML v1.0//EN
BEGIN:VEVENT
UID:69ec94cc69da2
DTSTAMP:20260425T201748
DTSTART:20151024T070000Z
DTEND:20151024T090000Z
LOCATION:Past Event - Berry . NSW . Australia 
SUMMARY:Hugh Mackay - The Art of Belonging
DESCRIPTION: The Art of Belonging October 2015. Berry. Hugh Mackay discusses " It's not where you live but how you live" that makes us belong. Hugh Mackay is one of Australia's foremost thought-leaders and researchers. This event was hosted by Global Contact in 2015.
END:VEVENT
END:VCALENDAR