BEGIN:VCALENDAR
VERSION:2.0
PRODID:-//eventon.com NONSGML v1.0//EN
BEGIN:VEVENT
UID:69e987f35a236
DTSTAMP:20260423T124611
DTSTART:20191116T000000Z
DTEND:20191116T050000Z
LOCATION:Berry CWA Hall 79 Victoria Street
SUMMARY:Cheralyn Darcey - The Language of Flowers: Experiential Workshop
DESCRIPTION: Cheralyn Darcey is a Botanical Alchemist & Spiritual Naturalist. In this workshop come and learn the creative\,  culinary and captivating ways to weave the meanings of Flowers into your life! It will be a hands-on full day! The workshop will include: Flower Gardening: A flower harvesting and preserving demonstration. How[..]
END:VEVENT
END:VCALENDAR