BEGIN:VCALENDAR
VERSION:2.0
PRODID:-//eventon.com NONSGML v1.0//EN
BEGIN:VEVENT
UID:69e987a1b18fe
DTSTAMP:20260423T124449
DTSTART:20191117T000000Z
DTEND:20191117T050000Z
LOCATION:Berry CWA Hall 79 Victoria Street
SUMMARY:Cheralyn Darcey - The Spirit of Flowers: Experiential Workshop
DESCRIPTION: Cheralyn Darcey is a Botanical Alchemist & Spiritual Naturalist. In this workshop\,  step beyond the garden gate and hear the wisdom and feel the earth power of  Flowers and  Plants to heal\,  support and guide you.   It will be a hands-on full day! During this workshop you will: Go[..]
END:VEVENT
END:VCALENDAR