BEGIN:VCALENDAR
VERSION:2.0
PRODID:-//eventon.com NONSGML v1.0//EN
BEGIN:VEVENT
UID:69e98767e9278
DTSTAMP:20260423T124351
DTSTART:20151031T000000Z
DTEND:20151031T060000Z
LOCATION:Past Event - Berry . NSW . Australia 
SUMMARY:Jane Ewins - Uncovering the Real You
DESCRIPTION: Uncovering the Real You October 2015. Berry. A day to unearth & experience who you really are underneath your conditioning.  Facilitator: Jane Ewins. Hosted by Global Contact.
END:VEVENT
END:VCALENDAR