BEGIN:VCALENDAR
VERSION:2.0
PRODID:-//eventon.com NONSGML v1.0//EN
BEGIN:VEVENT
UID:69e9877756d7f
DTSTAMP:20260423T124407
DTSTART:20161113T010000Z
DTEND:20161113T050000Z
LOCATION:Past Event - Berry . NSW . Australia 
SUMMARY:Stacey DeMarco - Health\,  Wealth\,  Love & Flow
DESCRIPTION: Health\,  Wealth\,  Love & Flow November 2016. Berry. Stacey DeMarco will open your mind & heart to how lunar & elemental magic will change your life. This workshop was hosted by Global Contact in 2016.
END:VEVENT
END:VCALENDAR