BEGIN:VCALENDAR
VERSION:2.0
PRODID:-//eventon.com NONSGML v1.0//EN
BEGIN:VEVENT
UID:69ec952046431
DTSTAMP:20260425T201912
DTSTART:20170819T000000Z
DTEND:20170819T050000Z
LOCATION:Past Event - Berry . NSW . Australia 
SUMMARY:Antoniette Gomez - Happiness Through Intention
DESCRIPTION: Happiness Through Intention August 2017. Berry. You can choose to turn fear into faith. A workshop with Antoniette Gomez. This workshop was hosted by Global Contact in 2017.
END:VEVENT
END:VCALENDAR