BEGIN:VCALENDAR
VERSION:2.0
PRODID:-//eventon.com NONSGML v1.0//EN
BEGIN:VEVENT
UID:69ec95695812a
DTSTAMP:20260425T202025
DTSTART:20180602T000000Z
DTEND:20180602T060000Z
LOCATION:Past Event - Berry . NSW . Australia 
SUMMARY:Lucy Cavendish - The Magick & Mysteries of Avalon
DESCRIPTION: The Magick & Mysteries of Avalon June 2018. Berry. Reactivate the knowledge of Celtic wisdom with Lucy Cavendish. This workshop was hosted by Global Contact in 2018.
END:VEVENT
END:VCALENDAR