BEGIN:VCALENDAR
VERSION:2.0
PRODID:-//eventon.com NONSGML v1.0//EN
BEGIN:VEVENT
UID:69e77752ed75f
DTSTAMP:20260421T231042
DTSTART:20131130T000000Z
DTEND:20131130T060000Z
LOCATION:Past Event - Berry . NSW . Australia 
SUMMARY:Where to from Now? - Stephanie Dowrick\,  Susan Murphy\,  Dorothy McRae McMahon\,  Jane Ewins
DESCRIPTION: Where to from Now?  November 2013. Berry. Speakers: Dr Stephanie Dowrick\,  Dorothy Mc Rae McMahon\,  Susan Murphy & Jane Ewins. "Instead of asking "what do I want from life?"\,  a more powerful question is "What does life want from me?" Eckhart Tolle.
END:VEVENT
END:VCALENDAR