BEGIN:VCALENDAR
VERSION:2.0
PRODID:-//eventon.com NONSGML v1.0//EN
BEGIN:VEVENT
UID:69ec954f558f1
DTSTAMP:20260425T201959
DTSTART:20170429T000000Z
DTEND:20170429T050000Z
LOCATION:Past Event - Berry . NSW . Australia 
SUMMARY:Rachelle Charman - Crystal & Shamanic Healing
DESCRIPTION: Crystal & Shamanic Healing. April 2017. Berry. Rachelle Sharman connects deeply with your soul & brings forth what is required for your transformation. This workshop was hosted by Global Contact in 2017.
END:VEVENT
END:VCALENDAR