BEGIN:VCALENDAR
VERSION:2.0
PRODID:-//eventon.com NONSGML v1.0//EN
BEGIN:VEVENT
UID:69e98958a18a3
DTSTAMP:20260423T125208
DTSTART:20130720T003000Z
DTEND:20130720T020000Z
LOCATION:Past Event - Berry . NSW . Australia 
SUMMARY:Chip Richards - Becoming the Hero in Your own Life Story
DESCRIPTION: Becoming the Hero in Your own Life Story July 2013. Berry. Celebrated author\,  speaker and creative guide - Chip Richards will help you express yourself more freely and fully.
END:VEVENT
END:VCALENDAR