BEGIN:VCALENDAR
VERSION:2.0
PRODID:-//eventon.com NONSGML v1.0//EN
BEGIN:VEVENT
UID:69ec94c62382c
DTSTAMP:20260425T201742
DTSTART:20160724T000000Z
DTEND:20160724T050000Z
LOCATION:Past Event - Berry . NSW . Australia 
SUMMARY:Debbie Malone - Awakening your Psychic Abilities
DESCRIPTION: Awakening your Psychic Abilities July 2016. Berry. Debbie Malone will encourage and inspire you to  "own" your psychic abilities.
END:VEVENT
END:VCALENDAR