BEGIN:VCALENDAR
VERSION:2.0
PRODID:-//eventon.com NONSGML v1.0//EN
BEGIN:VEVENT
UID:69e99d65b9914
DTSTAMP:20260423T141741
DTSTART:20150426T000000Z
DTEND:20150426T070000Z
LOCATION:Past Event - Berry . NSW . Australia 
SUMMARY:Susie Nelson-Smith - Crystal Sound Infusion
DESCRIPTION: Crystal Sound Infusion Workshop April 2015. Berry. Susie Nelson-Smith will share with you the healing sounds and vibrations of crystal bowls.
END:VEVENT
END:VCALENDAR