BEGIN:VCALENDAR
VERSION:2.0
PRODID:-//eventon.com NONSGML v1.0//EN
BEGIN:VEVENT
UID:69e7768cac5c9
DTSTAMP:20260421T230724
DTSTART:20181201T093000Z
DTEND:20181201T113000Z
LOCATION:Past Event - Berry . NSW . Australia 
SUMMARY:Sacred Earth - Concert - 2018
DESCRIPTION: Join Sacred Earth (Prem & Jethro) for their annual Berry Concert. A sacred evening\,  showing gratitude for our beautiful world and a celebration of the union of our voices to become an instrument of peace and love. A night of gratitude and healing\,  friendship and growth. Special Offer: You can[..]
END:VEVENT
END:VCALENDAR