BEGIN:VCALENDAR
VERSION:2.0
PRODID:-//eventon.com NONSGML v1.0//EN
BEGIN:VEVENT
UID:69e987ad401ba
DTSTAMP:20260423T124501
DTSTART:20220813T000000Z
DTEND:20220813T040000Z
LOCATION:Wesley Hall - Berry Uniting Church 77 Albert St
SUMMARY:Sacred Water Immersion Event
DESCRIPTION: Water is the element of emotion\,  intuition and wisdom. Join Suzy Cherub to connect with and explore the sacred element of water and embrace your intuitive flow.   This interactive Event includes: Experiencing Divine Water Rituals A workshop session to tap into your intuitive flow "Meeting" the Goddess Guardians of[..]
END:VEVENT
END:VCALENDAR