BEGIN:VCALENDAR
VERSION:2.0
PRODID:-//eventon.com NONSGML v1.0//EN
BEGIN:VEVENT
UID:69e9894d556ad
DTSTAMP:20260423T125157
DTSTART:20220814T000000Z
DTEND:20220815T060000Z
LOCATION:Berry 
SUMMARY:Personal Readings with Suzy Cherub
DESCRIPTION: Suzy Cherub is an international award winning psychic medium. Suzy has helped hundreds of people worldwide through her psychic insights and healing mediumship messages. . August 14 (Sunday) & August 15 (Monday) 2022.  Cost $108  (25 minutes)   Bookings: Please phone the store 0244642121 &nbsp; More about Suzy: Suzy  is[..]
END:VEVENT
END:VCALENDAR