BEGIN:VCALENDAR
VERSION:2.0
PRODID:-//eventon.com NONSGML v1.0//EN
BEGIN:VEVENT
UID:69e9863566ef5
DTSTAMP:20260423T123845
DTSTART:20220702T070000Z
DTEND:20220702T083000Z
LOCATION:On-line event 
SUMMARY:Free On-line Workshop - The Essence of Money
DESCRIPTION: The Essence of Money: Align Your Relationship with Money with Love\,  Abundance\,  Generosity & Nature. &nbsp; FREE On-line Workshop  with Sarah McCrum July 2 - 5pm - 6.30 pm AEST The workshop will be recorded for those people who register\,  but cannot attend live. About the Workshop: Sarah\,  the author[..]
END:VEVENT
END:VCALENDAR