BEGIN:VCALENDAR
VERSION:2.0
PRODID:-//eventon.com NONSGML v1.0//EN
BEGIN:VEVENT
UID:69e987a46f8a1
DTSTAMP:20260423T124452
DTSTART:20181117T070000Z
DTEND:20181117T090000Z
LOCATION:Past Event - Berry . NSW . Australia 
SUMMARY:Sue Lintern - The Journey is the Treasure
DESCRIPTION: Global Contact will be holding several FREE talks throughout the year. The aim\,  purpose\,  intent and desire the same\,  to encourage: Open’ing Hearts Provoke’ing Conscious Discernment Evoke’ing Insightful Change Nuance'ing Awareness. As we journey through life and if we begin to remember who we are in our essence\,  we open[..]
END:VEVENT
END:VCALENDAR