BEGIN:VCALENDAR
VERSION:2.0
PRODID:-//eventon.com NONSGML v1.0//EN
BEGIN:VEVENT
UID:69e987ab3a3d9
DTSTAMP:20260423T124459
DTSTART:20230211T080000Z
DTEND:20230211T135000Z
LOCATION:Global Contact Bookstore 131 Queen Street\,  Berry NSW 2535
SUMMARY:Open Minds -  Guest Speaker - Annabelle Sharman. Topic: "The Future Ancestor"
DESCRIPTION: THE AIM OF OUR OPEN MINDS GUEST SPEAKER SERIES IS TO: ~ Open hearts ~ Provoke discernment  ~ Evoke insightful change    ~ Nurture awareness Our guest speaker on February 11 2023 is Annabelle Sharman. Annabelle has just published  The Future Ancestor - A guide and Journey to Oneness -[..]
END:VEVENT
END:VCALENDAR